BEGIN:VCALENDAR
VERSION:2.0
PRODID:-//AARCH Society - ECPv6.15.20//NONSGML v1.0//EN
CALSCALE:GREGORIAN
METHOD:PUBLISH
X-ORIGINAL-URL:https://aarchsociety.org
X-WR-CALDESC:Events for AARCH Society
REFRESH-INTERVAL;VALUE=DURATION:PT1H
X-Robots-Tag:noindex
X-PUBLISHED-TTL:PT1H
BEGIN:VTIMEZONE
TZID:America/New_York
BEGIN:DAYLIGHT
TZOFFSETFROM:-0500
TZOFFSETTO:-0400
TZNAME:EDT
DTSTART:20250309T070000
END:DAYLIGHT
BEGIN:STANDARD
TZOFFSETFROM:-0400
TZOFFSETTO:-0500
TZNAME:EST
DTSTART:20251102T060000
END:STANDARD
BEGIN:DAYLIGHT
TZOFFSETFROM:-0500
TZOFFSETTO:-0400
TZNAME:EDT
DTSTART:20260308T070000
END:DAYLIGHT
BEGIN:STANDARD
TZOFFSETFROM:-0400
TZOFFSETTO:-0500
TZNAME:EST
DTSTART:20261101T060000
END:STANDARD
BEGIN:DAYLIGHT
TZOFFSETFROM:-0500
TZOFFSETTO:-0400
TZNAME:EDT
DTSTART:20270314T070000
END:DAYLIGHT
BEGIN:STANDARD
TZOFFSETFROM:-0400
TZOFFSETTO:-0500
TZNAME:EST
DTSTART:20271107T060000
END:STANDARD
END:VTIMEZONE
BEGIN:VEVENT
DTSTART;TZID=America/New_York:20260509T100000
DTEND;TZID=America/New_York:20260509T120000
DTSTAMP:20260423T060509
CREATED:20260407T000027Z
LAST-MODIFIED:20260407T010951Z
UID:9850-1778320800-1778328000@aarchsociety.org
SUMMARY:Annual Living Treasures Banquet 2026
DESCRIPTION:We invite you to join us for a morning of celebration as we honor Frederick’s Living Treasures. Each year\, we celebrate African Americans who are 90 years old and older\, whose shoulders we stand on. These extraordinary men and women hold our legacy\, our pride\, our history\, and our gratitude. Together\, lets lift them up in celebration! \nThis event will feature a breakfast buffet sponsored by Francis Food Company\, a dedication to 2026’s Living Treasures\, and a fun time with our community. \nYou don’t want to miss out on this special event! Ticket purchases can be made here.
URL:https://aarchsociety.org/event/living-treasures-banquet-2026/
LOCATION:Walkersville Volunteer Fire Department in the Grand Social Hall\, 79 W Frederick Street\, Walkersville\, 21793\, United States
ATTACH;FMTTYPE=image/png:https://aarchsociety.org/wp-content/uploads/2024/08/AARCH-logo-news.png
END:VEVENT
END:VCALENDAR